BEGIN:VCALENDAR
VERSION:2.0
PRODID:-//The Gospel - ECPv6.15.20//NONSGML v1.0//EN
CALSCALE:GREGORIAN
METHOD:PUBLISH
X-ORIGINAL-URL:https://thegospelofthekingdomofheaven.com
X-WR-CALDESC:Events for The Gospel
REFRESH-INTERVAL;VALUE=DURATION:PT1H
X-Robots-Tag:noindex
X-PUBLISHED-TTL:PT1H
BEGIN:VTIMEZONE
TZID:UTC
BEGIN:STANDARD
TZOFFSETFROM:+0000
TZOFFSETTO:+0000
TZNAME:UTC
DTSTART:20250101T000000
END:STANDARD
END:VTIMEZONE
BEGIN:VEVENT
DTSTART;TZID=UTC:20260318T180000
DTEND;TZID=UTC:20260319T180000
DTSTAMP:20260421T172649
CREATED:20260217T232229Z
LAST-MODIFIED:20260217T232555Z
UID:1162-1773856800-1773943200@thegospelofthekingdomofheaven.com
SUMMARY:Nisan 1
DESCRIPTION:New Year’s Day – The First Day of the Biblical Calendar Year \n[sunset March 18th 2026 – sunset March 19th 2026]
URL:https://thegospelofthekingdomofheaven.com/event/nisan-1/
END:VEVENT
END:VCALENDAR