BEGIN:VCALENDAR
VERSION:2.0
PRODID:-//The Gospel - ECPv6.15.20//NONSGML v1.0//EN
CALSCALE:GREGORIAN
METHOD:PUBLISH
X-WR-CALNAME:The Gospel
X-ORIGINAL-URL:https://thegospelofthekingdomofheaven.com
X-WR-CALDESC:Events for The Gospel
REFRESH-INTERVAL;VALUE=DURATION:PT1H
X-Robots-Tag:noindex
X-PUBLISHED-TTL:PT1H
BEGIN:VTIMEZONE
TZID:UTC
BEGIN:STANDARD
TZOFFSETFROM:+0000
TZOFFSETTO:+0000
TZNAME:UTC
DTSTART:20250101T000000
END:STANDARD
END:VTIMEZONE
BEGIN:VEVENT
DTSTART;TZID=UTC:20260401T180000
DTEND;TZID=UTC:20260402T180000
DTSTAMP:20260421T190329
CREATED:20251115T112606Z
LAST-MODIFIED:20251115T115331Z
UID:1137-1775066400-1775152800@thegospelofthekingdomofheaven.com
SUMMARY:First Day of Unleavened Bread
DESCRIPTION:The fifteenth (15) day of the 1st month Nisan (Abib) of the biblical calendar. \nFrom sunset Wednesday 1st April to sunset Thursday 2nd April. \n(Gathering for worship on Thursday 2nd April before the Lord at 3:00 pm)
URL:https://thegospelofthekingdomofheaven.com/event/first-day-of-unleavened-bread/
CATEGORIES:Annual Sabbath
END:VEVENT
END:VCALENDAR